BEGIN:VCALENDAR
VERSION:2.0
PRODID:-//CBPq - ECPv6.15.16//NONSGML v1.0//EN
CALSCALE:GREGORIAN
METHOD:PUBLISH
X-ORIGINAL-URL:https://dev.cbpq.org.br
X-WR-CALDESC:Eventos para CBPq
REFRESH-INTERVAL;VALUE=DURATION:PT1H
X-Robots-Tag:noindex
X-PUBLISHED-TTL:PT1H
BEGIN:VTIMEZONE
TZID:America/Sao_Paulo
BEGIN:STANDARD
TZOFFSETFROM:-0300
TZOFFSETTO:-0300
TZNAME:-03
DTSTART:20230101T000000
END:STANDARD
END:VTIMEZONE
BEGIN:VEVENT
DTSTART;VALUE=DATE:20240729
DTEND;VALUE=DATE:20240812
DTSTAMP:20260419T085755
CREATED:20240113T130646Z
LAST-MODIFIED:20240113T131100Z
UID:12015-1722211200-1723420799@dev.cbpq.org.br
SUMMARY:Boogie dos Lençóis
DESCRIPTION:Boogie dos Lençóis Maranhenses\nCategoria B+\nNúmero mínimo de 100 saltos
URL:https://dev.cbpq.org.br/event/boogie-dos-lencois/
LOCATION:Lençois Maranhenses\, Barreirinha\, MA\, 65590-000\, Brasil
CATEGORIES:Desloc,FQL,Freefly,Fun,Wingsuit
ATTACH;FMTTYPE=image/webp:https://dev.cbpq.org.br/wp-content/uploads/2023/07/evento-lencois-510x360-1.webp
END:VEVENT
BEGIN:VEVENT
DTSTART;VALUE=DATE:20240817
DTEND;VALUE=DATE:20240818
DTSTAMP:20260419T085755
CREATED:20240113T165442Z
LAST-MODIFIED:20240113T204626Z
UID:12041-1723852800-1723939199@dev.cbpq.org.br
SUMMARY:Wow Desloc para iniciantes
DESCRIPTION:Desloc para iniciantes\nCategoria Aceita: B\nClube Escola Wow Paraquedismo
URL:https://dev.cbpq.org.br/event/desloc-para-iniciantes/
LOCATION:Centro Nacional de Paraquedismo\, Avenida Industrial\, 1215\, Boituva\, SP\, 18550-000\, Brasil
CATEGORIES:Desloc
ATTACH;FMTTYPE=image/webp:https://dev.cbpq.org.br/wp-content/uploads/2024/01/Design-sem-nome1.webp
END:VEVENT
BEGIN:VEVENT
DTSTART;VALUE=DATE:20240831
DTEND;VALUE=DATE:20240902
DTSTAMP:20260419T085755
CREATED:20240210T184927Z
LAST-MODIFIED:20240210T184927Z
UID:12221-1725062400-1725235199@dev.cbpq.org.br
SUMMARY:Pira no FreeFly
DESCRIPTION:Pira No Freefly\n– Categoria A +\n+ informações  19 98246-7000
URL:https://dev.cbpq.org.br/event/pira-no-freefly-3/
LOCATION:Brasil Paraquedismo\, Rua Domingos Waldemar Bellucci\, 210\, Boituva\, São Paulo\, 18555-004\, Brazil
CATEGORIES:Desloc,Freefly
ATTACH;FMTTYPE=image/jpeg:https://dev.cbpq.org.br/wp-content/uploads/2024/02/Imagem-do-WhatsApp-de-2024-02-10-as-12.06.52_10f665c9.jpg
END:VEVENT
END:VCALENDAR