BEGIN:VCALENDAR
VERSION:2.0
PRODID:-//CBPq - ECPv6.15.16//NONSGML v1.0//EN
CALSCALE:GREGORIAN
METHOD:PUBLISH
X-ORIGINAL-URL:https://dev.cbpq.org.br
X-WR-CALDESC:Eventos para CBPq
REFRESH-INTERVAL;VALUE=DURATION:PT1H
X-Robots-Tag:noindex
X-PUBLISHED-TTL:PT1H
BEGIN:VTIMEZONE
TZID:America/Sao_Paulo
BEGIN:STANDARD
TZOFFSETFROM:-0300
TZOFFSETTO:-0300
TZNAME:-03
DTSTART:20230101T000000
END:STANDARD
END:VTIMEZONE
BEGIN:VEVENT
DTSTART;TZID=America/Sao_Paulo:20240221T200000
DTEND;TZID=America/Sao_Paulo:20240221T220000
DTSTAMP:20260419T185458
CREATED:20240212T161314Z
LAST-MODIFIED:20240212T161314Z
UID:12285-1708545600-1708552800@dev.cbpq.org.br
SUMMARY:Live Marcos Maluf - Segurança em Saltos de Descolamentos
DESCRIPTION:Participe do ciclo de palestras online gratuitas da CBPq. Dia 21 de fevereiro (quarta) 20h\, live com Marco Maluf sobre segurança em saltos de deslocamento. Acesse o site cbpq.org.br e saiba mais. Por um paraquedismo cada vez mais seguro!
URL:https://dev.cbpq.org.br/event/live-marcos-maluf-seguranca-em-saltos-de-descolamentos/
CATEGORIES:Desloc
ATTACH;FMTTYPE=image/webp:https://dev.cbpq.org.br/wp-content/uploads/2024/02/Design-sem-nome-1.webp
END:VEVENT
BEGIN:VEVENT
DTSTART;VALUE=DATE:20240223
DTEND;VALUE=DATE:20240225
DTSTAMP:20260419T185458
CREATED:20240211T181330Z
LAST-MODIFIED:20240211T181330Z
UID:12257-1708646400-1708819199@dev.cbpq.org.br
SUMMARY:No Flow Yes Flow
DESCRIPTION:No Flow Yes Flow\n+ Informações 11 98133-0161 Maluf
URL:https://dev.cbpq.org.br/event/no-flow-yes-flow/
LOCATION:Centro Nacional de Paraquedismo\, Avenida Industrial\, 1215\, Boituva\, SP\, 18550-000\, Brasil
CATEGORIES:Desloc,Freefly
ATTACH;FMTTYPE=image/webp:https://dev.cbpq.org.br/wp-content/uploads/2023/07/evento-free-flow.webp
END:VEVENT
END:VCALENDAR